BEGIN:VCALENDAR
VERSION:2.0
PRODID:City of Sammamish Event Calendar
METHOD:PUBLISH
BEGIN:VEVENT
DTSTART:20250115T180000
DTEND:20250115T193000
SUMMARY:January 15, 2025 Sammamish Youth Board Meeting
PRIORITY:3
END:VEVENT
END:VCALENDAR
